BEGIN:VCALENDAR
VERSION:2.0
PRODID:-//Adelaide Oval RoofClimb - ECPv4.9.7//NONSGML v1.0//EN
CALSCALE:GREGORIAN
METHOD:PUBLISH
X-WR-CALNAME:Adelaide Oval RoofClimb
X-ORIGINAL-URL:https://roofclimb.com.au
X-WR-CALDESC:Events for Adelaide Oval RoofClimb
BEGIN:VTIMEZONE
TZID:"Australia/Adelaide"
BEGIN:STANDARD
TZOFFSETFROM:+1030
TZOFFSETTO:+0930
TZNAME:ACST
DTSTART:20200404T163000
END:STANDARD
BEGIN:DAYLIGHT
TZOFFSETFROM:+0930
TZOFFSETTO:+1030
TZNAME:ACDT
DTSTART:20201003T163000
END:DAYLIGHT
END:VTIMEZONE
BEGIN:VEVENT
DTSTART;TZID="Australia/Adelaide":20200408T170000
DTEND;TZID="Australia/Adelaide":20200408T190000
DTSTAMP:20200229T031300
CREATED:20200229T030221Z
LAST-MODIFIED:20200229T030221Z
UID:17893-1586365200-1586372400@roofclimb.com.au
SUMMARY:RoofClimb Twilight
DESCRIPTION:
URL:https://roofclimb.com.au/event/roofclimb-twilight-apr-8-2020-500pm/
CATEGORIES:RoofClimb Twilight
END:VEVENT
END:VCALENDAR