BEGIN:VCALENDAR
VERSION:2.0
PRODID:-//Adelaide Oval RoofClimb - ECPv4.9.7//NONSGML v1.0//EN
CALSCALE:GREGORIAN
METHOD:PUBLISH
X-WR-CALNAME:Adelaide Oval RoofClimb
X-ORIGINAL-URL:https://roofclimb.com.au
X-WR-CALDESC:Events for Adelaide Oval RoofClimb
BEGIN:VTIMEZONE
TZID:"Australia/Adelaide"
BEGIN:STANDARD
TZOFFSETFROM:+1030
TZOFFSETTO:+0930
TZNAME:ACST
DTSTART:20200404T163000
END:STANDARD
BEGIN:DAYLIGHT
TZOFFSETFROM:+0930
TZOFFSETTO:+1030
TZNAME:ACDT
DTSTART:20201003T163000
END:DAYLIGHT
END:VTIMEZONE
BEGIN:VEVENT
DTSTART;TZID="Australia/Adelaide":20200404T100000
DTEND;TZID="Australia/Adelaide":20200404T120000
DTSTAMP:20200229T022551
CREATED:20200229T020221Z
LAST-MODIFIED:20200229T020221Z
UID:17374-1585994400-1586001600@roofclimb.com.au
SUMMARY:RoofClimb Day
DESCRIPTION:
URL:https://roofclimb.com.au/event/roofclimb-day-apr-4-2020-1000am/
CATEGORIES:RoofClimb Day
END:VEVENT
BEGIN:VEVENT
DTSTART;TZID="Australia/Adelaide":20200404T170000
DTEND;TZID="Australia/Adelaide":20200404T190000
DTSTAMP:20200229T022551
CREATED:20200229T020221Z
LAST-MODIFIED:20200229T020221Z
UID:17375-1586019600-1586026800@roofclimb.com.au
SUMMARY:RoofClimb Day
DESCRIPTION:
URL:https://roofclimb.com.au/event/roofclimb-day-apr-4-2020-500pm/
CATEGORIES:RoofClimb Day
END:VEVENT
BEGIN:VEVENT
DTSTART;TZID="Australia/Adelaide":20200404T180000
DTEND;TZID="Australia/Adelaide":20200404T200000
DTSTAMP:20200229T022551
CREATED:20200229T020221Z
LAST-MODIFIED:20200229T020221Z
UID:17376-1586023200-1586030400@roofclimb.com.au
SUMMARY:RoofClimb Twilight
DESCRIPTION:
URL:https://roofclimb.com.au/event/roofclimb-twilight-apr-4-2020-600pm/
CATEGORIES:RoofClimb Twilight
END:VEVENT
BEGIN:VEVENT
DTSTART;TZID="Australia/Adelaide":20200404T190000
DTEND;TZID="Australia/Adelaide":20200404T210000
DTSTAMP:20200229T022551
CREATED:20200229T020221Z
LAST-MODIFIED:20200229T020221Z
UID:17377-1586026800-1586034000@roofclimb.com.au
SUMMARY:RoofClimb Twilight
DESCRIPTION:
URL:https://roofclimb.com.au/event/roofclimb-twilight-apr-4-2020-700pm/
CATEGORIES:RoofClimb Twilight
END:VEVENT
BEGIN:VEVENT
DTSTART;TZID="Australia/Adelaide":20200404T203000
DTEND;TZID="Australia/Adelaide":20200404T220000
DTSTAMP:20200229T022551
CREATED:20200229T020221Z
LAST-MODIFIED:20200229T020221Z
UID:18657-1586032200-1586037600@roofclimb.com.au
SUMMARY:RoofClimb Night
DESCRIPTION:
URL:https://roofclimb.com.au/event/roofclimb-night-apr-4-2020-830pm/
CATEGORIES:RoofClimb Night
END:VEVENT
END:VCALENDAR