BEGIN:VCALENDAR
VERSION:2.0
PRODID:-//Adelaide Oval RoofClimb - ECPv4.9.7//NONSGML v1.0//EN
CALSCALE:GREGORIAN
METHOD:PUBLISH
X-WR-CALNAME:Adelaide Oval RoofClimb
X-ORIGINAL-URL:https://roofclimb.com.au
X-WR-CALDESC:Events for Adelaide Oval RoofClimb
BEGIN:VTIMEZONE
TZID:"Australia/Adelaide"
BEGIN:STANDARD
TZOFFSETFROM:+1030
TZOFFSETTO:+0930
TZNAME:ACST
DTSTART:20200404T163000
END:STANDARD
BEGIN:DAYLIGHT
TZOFFSETFROM:+0930
TZOFFSETTO:+1030
TZNAME:ACDT
DTSTART:20201003T163000
END:DAYLIGHT
END:VTIMEZONE
BEGIN:VEVENT
DTSTART;TZID="Australia/Adelaide":20200405T100000
DTEND;TZID="Australia/Adelaide":20200405T120000
DTSTAMP:20200229T022644
CREATED:20200229T020221Z
LAST-MODIFIED:20200229T020221Z
UID:17378-1586080800-1586088000@roofclimb.com.au
SUMMARY:RoofClimb Day
DESCRIPTION:
URL:https://roofclimb.com.au/event/roofclimb-day-apr-5-2020-1000am/
CATEGORIES:RoofClimb Day
END:VEVENT
BEGIN:VEVENT
DTSTART;TZID="Australia/Adelaide":20200405T150000
DTEND;TZID="Australia/Adelaide":20200405T170000
DTSTAMP:20200229T022644
CREATED:20200229T020221Z
LAST-MODIFIED:20200229T020221Z
UID:17883-1586098800-1586106000@roofclimb.com.au
SUMMARY:RoofClimb Day
DESCRIPTION:
URL:https://roofclimb.com.au/event/roofclimb-day-apr-5-2020-300pm/
CATEGORIES:RoofClimb Day
END:VEVENT
BEGIN:VEVENT
DTSTART;TZID="Australia/Adelaide":20200405T160000
DTEND;TZID="Australia/Adelaide":20200405T180000
DTSTAMP:20200229T022644
CREATED:20200229T020221Z
LAST-MODIFIED:20200229T020221Z
UID:17884-1586102400-1586109600@roofclimb.com.au
SUMMARY:RoofClimb Twilight
DESCRIPTION:
URL:https://roofclimb.com.au/event/roofclimb-twilight-apr-5-2020-400pm/
CATEGORIES:RoofClimb Twilight
END:VEVENT
BEGIN:VEVENT
DTSTART;TZID="Australia/Adelaide":20200405T170000
DTEND;TZID="Australia/Adelaide":20200405T190000
DTSTAMP:20200229T022644
CREATED:20200229T020221Z
LAST-MODIFIED:20200229T020221Z
UID:17885-1586106000-1586113200@roofclimb.com.au
SUMMARY:RoofClimb Twilight
DESCRIPTION:
URL:https://roofclimb.com.au/event/roofclimb-twilight-apr-5-2020-500pm/
CATEGORIES:RoofClimb Twilight
END:VEVENT
END:VCALENDAR