BEGIN:VCALENDAR
VERSION:2.0
PRODID:-//Adelaide Oval RoofClimb - ECPv4.9.7//NONSGML v1.0//EN
CALSCALE:GREGORIAN
METHOD:PUBLISH
X-WR-CALNAME:Adelaide Oval RoofClimb
X-ORIGINAL-URL:https://roofclimb.com.au
X-WR-CALDESC:Events for Adelaide Oval RoofClimb
BEGIN:VTIMEZONE
TZID:"Australia/Adelaide"
BEGIN:STANDARD
TZOFFSETFROM:+1030
TZOFFSETTO:+0930
TZNAME:ACST
DTSTART:20200404T163000
END:STANDARD
BEGIN:DAYLIGHT
TZOFFSETFROM:+0930
TZOFFSETTO:+1030
TZNAME:ACDT
DTSTART:20201003T163000
END:DAYLIGHT
END:VTIMEZONE
BEGIN:VEVENT
DTSTART;TZID="Australia/Adelaide":20200410T100000
DTEND;TZID="Australia/Adelaide":20200410T120000
DTSTAMP:20200229T031326
CREATED:20200229T030221Z
LAST-MODIFIED:20200229T030221Z
UID:18749-1586512800-1586520000@roofclimb.com.au
SUMMARY:RoofClimb Day
DESCRIPTION:
URL:https://roofclimb.com.au/event/roofclimb-day-apr-10-2020-1000am/
CATEGORIES:RoofClimb Day
END:VEVENT
END:VCALENDAR