BEGIN:VCALENDAR
VERSION:2.0
PRODID:-//Adelaide Oval RoofClimb - ECPv4.9.7//NONSGML v1.0//EN
CALSCALE:GREGORIAN
METHOD:PUBLISH
X-WR-CALNAME:Adelaide Oval RoofClimb
X-ORIGINAL-URL:https://roofclimb.com.au
X-WR-CALDESC:Events for Adelaide Oval RoofClimb
BEGIN:VTIMEZONE
TZID:"Australia/Adelaide"
BEGIN:STANDARD
TZOFFSETFROM:+1030
TZOFFSETTO:+0930
TZNAME:ACST
DTSTART:20200404T163000
END:STANDARD
BEGIN:DAYLIGHT
TZOFFSETFROM:+0930
TZOFFSETTO:+1030
TZNAME:ACDT
DTSTART:20201003T163000
END:DAYLIGHT
END:VTIMEZONE
BEGIN:VEVENT
DTSTART;TZID="Australia/Adelaide":20200301T180000
DTEND;TZID="Australia/Adelaide":20200301T200000
DTSTAMP:20200301T172734
CREATED:20200301T170221Z
LAST-MODIFIED:20200301T170221Z
UID:17414-1583085600-1583092800@roofclimb.com.au
SUMMARY:RoofClimb Twilight
DESCRIPTION:
URL:https://roofclimb.com.au/event/roofclimb-twilight-mar-1-2020-600pm/
CATEGORIES:RoofClimb Twilight
END:VEVENT
BEGIN:VEVENT
DTSTART;TZID="Australia/Adelaide":20200301T183000
DTEND;TZID="Australia/Adelaide":20200301T203000
DTSTAMP:20200301T172734
CREATED:20200301T170221Z
LAST-MODIFIED:20200301T170221Z
UID:18817-1583087400-1583094600@roofclimb.com.au
SUMMARY:RoofClimb Twilight
DESCRIPTION:
URL:https://roofclimb.com.au/event/roofclimb-twilight-mar-1-2020-630pm/
CATEGORIES:RoofClimb Twilight
END:VEVENT
BEGIN:VEVENT
DTSTART;TZID="Australia/Adelaide":20200301T190000
DTEND;TZID="Australia/Adelaide":20200301T210000
DTSTAMP:20200301T172734
CREATED:20200301T170221Z
LAST-MODIFIED:20200301T170221Z
UID:17415-1583089200-1583096400@roofclimb.com.au
SUMMARY:RoofClimb Twilight
DESCRIPTION:
URL:https://roofclimb.com.au/event/roofclimb-twilight-mar-1-2020-700pm/
CATEGORIES:RoofClimb Twilight
END:VEVENT
END:VCALENDAR